BEGIN:VCALENDAR
VERSION:2.0
PRODID:-//The Institute - ECPv6.15.20//NONSGML v1.0//EN
CALSCALE:GREGORIAN
METHOD:PUBLISH
X-WR-CALNAME:The Institute
X-ORIGINAL-URL:https://institute.ohioguidestone.org
X-WR-CALDESC:Events for The Institute
REFRESH-INTERVAL;VALUE=DURATION:PT1H
X-Robots-Tag:noindex
X-PUBLISHED-TTL:PT1H
BEGIN:VTIMEZONE
TZID:America/New_York
BEGIN:DAYLIGHT
TZOFFSETFROM:-0500
TZOFFSETTO:-0400
TZNAME:EDT
DTSTART:20250309T070000
END:DAYLIGHT
BEGIN:STANDARD
TZOFFSETFROM:-0400
TZOFFSETTO:-0500
TZNAME:EST
DTSTART:20251102T060000
END:STANDARD
BEGIN:DAYLIGHT
TZOFFSETFROM:-0500
TZOFFSETTO:-0400
TZNAME:EDT
DTSTART:20260308T070000
END:DAYLIGHT
BEGIN:STANDARD
TZOFFSETFROM:-0400
TZOFFSETTO:-0500
TZNAME:EST
DTSTART:20261101T060000
END:STANDARD
BEGIN:DAYLIGHT
TZOFFSETFROM:-0500
TZOFFSETTO:-0400
TZNAME:EDT
DTSTART:20270314T070000
END:DAYLIGHT
BEGIN:STANDARD
TZOFFSETFROM:-0400
TZOFFSETTO:-0500
TZNAME:EST
DTSTART:20271107T060000
END:STANDARD
END:VTIMEZONE
BEGIN:VEVENT
DTSTART;TZID=America/New_York:20260501T090000
DTEND;TZID=America/New_York:20260501T130000
DTSTAMP:20260424T062105
CREATED:20250930T155746Z
LAST-MODIFIED:20260411T233922Z
UID:10000009-1777626000-1777640400@institute.ohioguidestone.org
SUMMARY:Spring 2026 Father’s Feelings© Intervention Half-Day Workshop
DESCRIPTION:Father’s Feelings© provides fathers with a clinical screening for paternal perinatal* mood disorders (e.g. depression\, anxiety and stress)\, brief coaching and intervention focused on fathers\, and referrals to clinical and various social and community services during the perinatal and early childhood phases. This project aims to recognize and address mental health challenges faced by men\, encourage paternal engagement and attachment with their child(ren)\, and raise awareness while enhancing access to resources relevant and tailored for fathers and men. \nThis training is for practitioners who have already completed the Perinatal Paternal Depression Screening centered on the use of the OhioGuidestone Yates Father Symptom Scale** to identify perinatal mood disorder symptoms related to depression\, anxiety and fatherhood stress. This half-day training equips practitioners to begin to use Father’s Feelings© can be used as a broad prevention program standing alone across at least five weekly sessions\, or added to other programming from home visiting services to father/family programs and even mental healthcare services. \n**Need to the Perinatal Paternal Depression Screening**? Check our calendar of events or contact us at research@ohioguidestone.org.
URL:https://institute.ohioguidestone.org/event/spring-2026-fathers-feelings-intervention-half-day-workshop/
LOCATION:OhioGuidestone Reinberger Chapel
ORGANIZER;CN="Institute of Family & Community Impact":MAILTO:research@ohioguidestone.org
END:VEVENT
END:VCALENDAR